BEGIN:VCALENDAR
VERSION:2.0
PRODID:-//Fondo de Empleados de ManpowerGroup - ECPv6.15.20//NONSGML v1.0//EN
CALSCALE:GREGORIAN
METHOD:PUBLISH
X-ORIGINAL-URL:https://fondomanpower.com
X-WR-CALDESC:Eventos para Fondo de Empleados de ManpowerGroup
REFRESH-INTERVAL;VALUE=DURATION:PT1H
X-Robots-Tag:noindex
X-PUBLISHED-TTL:PT1H
BEGIN:VTIMEZONE
TZID:America/New_York
BEGIN:DAYLIGHT
TZOFFSETFROM:-0500
TZOFFSETTO:-0400
TZNAME:EDT
DTSTART:20250309T070000
END:DAYLIGHT
BEGIN:STANDARD
TZOFFSETFROM:-0400
TZOFFSETTO:-0500
TZNAME:EST
DTSTART:20251102T060000
END:STANDARD
BEGIN:DAYLIGHT
TZOFFSETFROM:-0500
TZOFFSETTO:-0400
TZNAME:EDT
DTSTART:20260308T070000
END:DAYLIGHT
BEGIN:STANDARD
TZOFFSETFROM:-0400
TZOFFSETTO:-0500
TZNAME:EST
DTSTART:20261101T060000
END:STANDARD
BEGIN:DAYLIGHT
TZOFFSETFROM:-0500
TZOFFSETTO:-0400
TZNAME:EDT
DTSTART:20270314T070000
END:DAYLIGHT
BEGIN:STANDARD
TZOFFSETFROM:-0400
TZOFFSETTO:-0500
TZNAME:EST
DTSTART:20271107T060000
END:STANDARD
END:VTIMEZONE
BEGIN:VEVENT
DTSTART;TZID=America/New_York:20260503T000000
DTEND;TZID=America/New_York:20260503T000000
DTSTAMP:20260423T140334
CREATED:20260107T134625Z
LAST-MODIFIED:20260107T134625Z
UID:10323-1777766400-1777766400@fondomanpower.com
SUMMARY:Cierre Mejoramiento de Vivienda |Convocatoria #2
DESCRIPTION:
URL:https://fondomanpower.com/event/cierre-mejoramiento-de-vivienda-convocatoria-2-2/
CATEGORIES:Bienestar
END:VEVENT
BEGIN:VEVENT
DTSTART;TZID=America/New_York:20260505T000000
DTEND;TZID=America/New_York:20260505T000000
DTSTAMP:20260423T140334
CREATED:20260106T215358Z
LAST-MODIFIED:20260107T140536Z
UID:10196-1777939200-1777939200@fondomanpower.com
SUMMARY:Experiencias de Vida | Sorteo #5
DESCRIPTION:
URL:https://fondomanpower.com/event/experiencias-de-vida-sorteo-5/
CATEGORIES:Bienestar
END:VEVENT
BEGIN:VEVENT
DTSTART;TZID=America/New_York:20260506T000000
DTEND;TZID=America/New_York:20260506T000000
DTSTAMP:20260423T140334
CREATED:20260107T134630Z
LAST-MODIFIED:20260107T134630Z
UID:10324-1778025600-1778025600@fondomanpower.com
SUMMARY:Publicación Mejoramiento de Vivienda | Convocatoria #2
DESCRIPTION:
URL:https://fondomanpower.com/event/publicacion-mejoramiento-de-vivienda-convocatoria-2-2/
CATEGORIES:Bienestar
END:VEVENT
BEGIN:VEVENT
DTSTART;TZID=America/New_York:20260508T000000
DTEND;TZID=America/New_York:20260508T000000
DTSTAMP:20260423T140334
CREATED:20260107T134633Z
LAST-MODIFIED:20260107T134633Z
UID:10325-1778198400-1778198400@fondomanpower.com
SUMMARY:Sorteo Mejoramiento de Vivienda | Convocatoria #2
DESCRIPTION:
URL:https://fondomanpower.com/event/sorteo-mejoramiento-de-vivienda-convocatoria-2-2/
CATEGORIES:Bienestar
END:VEVENT
BEGIN:VEVENT
DTSTART;TZID=America/New_York:20260514T000000
DTEND;TZID=America/New_York:20260514T000000
DTSTAMP:20260423T140334
CREATED:20260107T140939Z
LAST-MODIFIED:20260107T140939Z
UID:10394-1778716800-1778716800@fondomanpower.com
SUMMARY:de Paseo por Colombia | Sorteo #3
DESCRIPTION:
URL:https://fondomanpower.com/event/de-paseo-por-colombia-sorteo-3-2/
CATEGORIES:Bienestar
END:VEVENT
BEGIN:VEVENT
DTSTART;TZID=America/New_York:20260525T000000
DTEND;TZID=America/New_York:20260525T000000
DTSTAMP:20260423T140334
CREATED:20260107T135917Z
LAST-MODIFIED:20260107T135917Z
UID:10366-1779667200-1779667200@fondomanpower.com
SUMMARY:Bono para Mercado | Sorteo #5
DESCRIPTION:
URL:https://fondomanpower.com/event/bono-para-mercado-sorteo-5-2/
CATEGORIES:Bienestar
END:VEVENT
END:VCALENDAR