BEGIN:VCALENDAR
VERSION:2.0
PRODID:-//Fondo de Empleados de ManpowerGroup - ECPv6.15.20//NONSGML v1.0//EN
CALSCALE:GREGORIAN
METHOD:PUBLISH
X-WR-CALNAME:Fondo de Empleados de ManpowerGroup
X-ORIGINAL-URL:https://fondomanpower.com
X-WR-CALDESC:Eventos para Fondo de Empleados de ManpowerGroup
REFRESH-INTERVAL;VALUE=DURATION:PT1H
X-Robots-Tag:noindex
X-PUBLISHED-TTL:PT1H
BEGIN:VTIMEZONE
TZID:America/New_York
BEGIN:DAYLIGHT
TZOFFSETFROM:-0500
TZOFFSETTO:-0400
TZNAME:EDT
DTSTART:20250309T070000
END:DAYLIGHT
BEGIN:STANDARD
TZOFFSETFROM:-0400
TZOFFSETTO:-0500
TZNAME:EST
DTSTART:20251102T060000
END:STANDARD
BEGIN:DAYLIGHT
TZOFFSETFROM:-0500
TZOFFSETTO:-0400
TZNAME:EDT
DTSTART:20260308T070000
END:DAYLIGHT
BEGIN:STANDARD
TZOFFSETFROM:-0400
TZOFFSETTO:-0500
TZNAME:EST
DTSTART:20261101T060000
END:STANDARD
BEGIN:DAYLIGHT
TZOFFSETFROM:-0500
TZOFFSETTO:-0400
TZNAME:EDT
DTSTART:20270314T070000
END:DAYLIGHT
BEGIN:STANDARD
TZOFFSETFROM:-0400
TZOFFSETTO:-0500
TZNAME:EST
DTSTART:20271107T060000
END:STANDARD
END:VTIMEZONE
BEGIN:VEVENT
DTSTART;TZID=America/New_York:20260601T000000
DTEND;TZID=America/New_York:20260601T235900
DTSTAMP:20260423T123148
CREATED:20260108T130650Z
LAST-MODIFIED:20260326T153653Z
UID:10430-1780272000-1780358340@fondomanpower.com
SUMMARY:Inicio Bono Educativo | Convocatoria #1
DESCRIPTION:
URL:https://fondomanpower.com/event/inicio-bono-educativo-convocatoria-1/
CATEGORIES:Bienestar
END:VEVENT
BEGIN:VEVENT
DTSTART;TZID=America/New_York:20260605T000000
DTEND;TZID=America/New_York:20260605T000000
DTSTAMP:20260423T123148
CREATED:20260107T140539Z
LAST-MODIFIED:20260107T140539Z
UID:10384-1780617600-1780617600@fondomanpower.com
SUMMARY:Experiencias de Vida | Sorteo #6
DESCRIPTION:
URL:https://fondomanpower.com/event/experiencias-de-vida-sorteo-6-2/
CATEGORIES:Bienestar
END:VEVENT
BEGIN:VEVENT
DTSTART;TZID=America/New_York:20260611T000000
DTEND;TZID=America/New_York:20260611T000000
DTSTAMP:20260423T123148
CREATED:20260107T140319Z
LAST-MODIFIED:20260107T140319Z
UID:10376-1781136000-1781136000@fondomanpower.com
SUMMARY:Bono de Servicios Públicos | Sorteo #3
DESCRIPTION:
URL:https://fondomanpower.com/event/bono-de-servicios-publicos-sorteo-3-2/
CATEGORIES:Bienestar
END:VEVENT
BEGIN:VEVENT
DTSTART;TZID=America/New_York:20260612T000000
DTEND;TZID=America/New_York:20260612T000000
DTSTAMP:20260423T123148
CREATED:20260108T130653Z
LAST-MODIFIED:20260108T130653Z
UID:10431-1781222400-1781222400@fondomanpower.com
SUMMARY:Cierre Bono Educativo | Convocatoria #1
DESCRIPTION:
URL:https://fondomanpower.com/event/cierre-bono-educativo-convocatoria-1/
CATEGORIES:Bienestar
END:VEVENT
BEGIN:VEVENT
DTSTART;TZID=America/New_York:20260619T000000
DTEND;TZID=America/New_York:20260619T000000
DTSTAMP:20260423T123148
CREATED:20260108T130722Z
LAST-MODIFIED:20260108T130722Z
UID:10432-1781827200-1781827200@fondomanpower.com
SUMMARY:Publicación Bono Educativo | Convocatoria #1
DESCRIPTION:
URL:https://fondomanpower.com/event/publicacion-bono-educativo-convocatoria-1/
CATEGORIES:Bienestar
END:VEVENT
BEGIN:VEVENT
DTSTART;TZID=America/New_York:20260625T000000
DTEND;TZID=America/New_York:20260625T000000
DTSTAMP:20260423T123148
CREATED:20260107T135927Z
LAST-MODIFIED:20260107T135927Z
UID:10367-1782345600-1782345600@fondomanpower.com
SUMMARY:Bono para Mercado | Sorteo #6
DESCRIPTION:
URL:https://fondomanpower.com/event/bono-para-mercado-sorteo-6-2/
CATEGORIES:Bienestar
END:VEVENT
BEGIN:VEVENT
DTSTART;TZID=America/New_York:20260625T000000
DTEND;TZID=America/New_York:20260625T000000
DTSTAMP:20260423T123148
CREATED:20260108T130733Z
LAST-MODIFIED:20260108T130733Z
UID:10433-1782345600-1782345600@fondomanpower.com
SUMMARY:Sorteo Bono Educativo | Convocatoria #1
DESCRIPTION:
URL:https://fondomanpower.com/event/sorteo-bono-educativo-convocatoria-1/
CATEGORIES:Bienestar
END:VEVENT
END:VCALENDAR