BEGIN:VCALENDAR
VERSION:2.0
PRODID:-//Fondo de Empleados de ManpowerGroup - ECPv6.15.20//NONSGML v1.0//EN
CALSCALE:GREGORIAN
METHOD:PUBLISH
X-ORIGINAL-URL:https://fondomanpower.com
X-WR-CALDESC:Eventos para Fondo de Empleados de ManpowerGroup
REFRESH-INTERVAL;VALUE=DURATION:PT1H
X-Robots-Tag:noindex
X-PUBLISHED-TTL:PT1H
BEGIN:VTIMEZONE
TZID:America/New_York
BEGIN:DAYLIGHT
TZOFFSETFROM:-0500
TZOFFSETTO:-0400
TZNAME:EDT
DTSTART:20250309T070000
END:DAYLIGHT
BEGIN:STANDARD
TZOFFSETFROM:-0400
TZOFFSETTO:-0500
TZNAME:EST
DTSTART:20251102T060000
END:STANDARD
BEGIN:DAYLIGHT
TZOFFSETFROM:-0500
TZOFFSETTO:-0400
TZNAME:EDT
DTSTART:20260308T070000
END:DAYLIGHT
BEGIN:STANDARD
TZOFFSETFROM:-0400
TZOFFSETTO:-0500
TZNAME:EST
DTSTART:20261101T060000
END:STANDARD
BEGIN:DAYLIGHT
TZOFFSETFROM:-0500
TZOFFSETTO:-0400
TZNAME:EDT
DTSTART:20270314T070000
END:DAYLIGHT
BEGIN:STANDARD
TZOFFSETFROM:-0400
TZOFFSETTO:-0500
TZNAME:EST
DTSTART:20271107T060000
END:STANDARD
END:VTIMEZONE
BEGIN:VEVENT
DTSTART;TZID=America/New_York:20260802T000000
DTEND;TZID=America/New_York:20260802T000000
DTSTAMP:20260423T153034
CREATED:20260107T134638Z
LAST-MODIFIED:20260107T134638Z
UID:10327-1785628800-1785628800@fondomanpower.com
SUMMARY:Cierre Mejoramiento de Vivienda | Convocatoria #3
DESCRIPTION:
URL:https://fondomanpower.com/event/cierre-mejoramiento-de-vivienda-convocatoria-3-2/
CATEGORIES:Bienestar
END:VEVENT
BEGIN:VEVENT
DTSTART;TZID=America/New_York:20260805T000000
DTEND;TZID=America/New_York:20260805T000000
DTSTAMP:20260423T153034
CREATED:20260107T134824Z
LAST-MODIFIED:20260107T134824Z
UID:10328-1785888000-1785888000@fondomanpower.com
SUMMARY:Publicación Mejoramiento de Vivienda | Convocatoria #3
DESCRIPTION:
URL:https://fondomanpower.com/event/publicacion-mejoramiento-de-vivienda-convocatoria-3-2/
CATEGORIES:Bienestar
END:VEVENT
BEGIN:VEVENT
DTSTART;TZID=America/New_York:20260805T000000
DTEND;TZID=America/New_York:20260805T000000
DTSTAMP:20260423T153034
CREATED:20260107T140732Z
LAST-MODIFIED:20260107T140732Z
UID:10387-1785888000-1785888000@fondomanpower.com
SUMMARY:Experiencias de Vida | Sorteo #8
DESCRIPTION:
URL:https://fondomanpower.com/event/experiencias-de-vida-sorteo-8-2/
CATEGORIES:Bienestar
END:VEVENT
BEGIN:VEVENT
DTSTART;TZID=America/New_York:20260806T000000
DTEND;TZID=America/New_York:20260806T000000
DTSTAMP:20260423T153034
CREATED:20260107T134834Z
LAST-MODIFIED:20260107T134834Z
UID:10329-1785974400-1785974400@fondomanpower.com
SUMMARY:Sorteo Mejoramiento de Vivienda | Convocatoria #3
DESCRIPTION:
URL:https://fondomanpower.com/event/sorteo-mejoramiento-de-vivienda-convocatoria-3-2/
CATEGORIES:Bienestar
END:VEVENT
BEGIN:VEVENT
DTSTART;TZID=America/New_York:20260811T000000
DTEND;TZID=America/New_York:20260811T000000
DTSTAMP:20260423T153034
CREATED:20260107T140331Z
LAST-MODIFIED:20260107T140331Z
UID:10377-1786406400-1786406400@fondomanpower.com
SUMMARY:Bono de Servicios Públicos | Sorteo #4
DESCRIPTION:
URL:https://fondomanpower.com/event/bono-de-servicios-publicos-sorteo-4-2/
CATEGORIES:Bienestar
END:VEVENT
BEGIN:VEVENT
DTSTART;TZID=America/New_York:20260813T000000
DTEND;TZID=America/New_York:20260813T000000
DTSTAMP:20260423T153034
CREATED:20260107T141123Z
LAST-MODIFIED:20260107T141123Z
UID:10396-1786579200-1786579200@fondomanpower.com
SUMMARY:de Paseo por Colombia | Sorteo #5
DESCRIPTION:
URL:https://fondomanpower.com/event/de-paseo-por-colombia-sorteo-5-2/
CATEGORIES:Bienestar
END:VEVENT
BEGIN:VEVENT
DTSTART;TZID=America/New_York:20260824T000000
DTEND;TZID=America/New_York:20260824T000000
DTSTAMP:20260423T153034
CREATED:20260107T135046Z
LAST-MODIFIED:20260107T135046Z
UID:10342-1787529600-1787529600@fondomanpower.com
SUMMARY:Inicio Remodelación de Vivienda | Convocatoria #3
DESCRIPTION:
URL:https://fondomanpower.com/event/inicio-remodelacion-de-vivienda-convocatoria-3-2/
CATEGORIES:Bienestar
END:VEVENT
BEGIN:VEVENT
DTSTART;TZID=America/New_York:20260826T000000
DTEND;TZID=America/New_York:20260826T000000
DTSTAMP:20260423T153034
CREATED:20260107T135933Z
LAST-MODIFIED:20260107T135933Z
UID:10369-1787702400-1787702400@fondomanpower.com
SUMMARY:Bono para Mercado | Sorteo #8
DESCRIPTION:
URL:https://fondomanpower.com/event/bono-para-mercado-sorteo-8-2/
CATEGORIES:Bienestar
END:VEVENT
END:VCALENDAR