BEGIN:VCALENDAR
VERSION:2.0
PRODID:-//Fondo de Empleados de ManpowerGroup - ECPv6.15.20//NONSGML v1.0//EN
CALSCALE:GREGORIAN
METHOD:PUBLISH
X-ORIGINAL-URL:https://fondomanpower.com
X-WR-CALDESC:Eventos para Fondo de Empleados de ManpowerGroup
REFRESH-INTERVAL;VALUE=DURATION:PT1H
X-Robots-Tag:noindex
X-PUBLISHED-TTL:PT1H
BEGIN:VTIMEZONE
TZID:America/New_York
BEGIN:DAYLIGHT
TZOFFSETFROM:-0500
TZOFFSETTO:-0400
TZNAME:EDT
DTSTART:20250309T070000
END:DAYLIGHT
BEGIN:STANDARD
TZOFFSETFROM:-0400
TZOFFSETTO:-0500
TZNAME:EST
DTSTART:20251102T060000
END:STANDARD
BEGIN:DAYLIGHT
TZOFFSETFROM:-0500
TZOFFSETTO:-0400
TZNAME:EDT
DTSTART:20260308T070000
END:DAYLIGHT
BEGIN:STANDARD
TZOFFSETFROM:-0400
TZOFFSETTO:-0500
TZNAME:EST
DTSTART:20261101T060000
END:STANDARD
BEGIN:DAYLIGHT
TZOFFSETFROM:-0500
TZOFFSETTO:-0400
TZNAME:EDT
DTSTART:20270314T070000
END:DAYLIGHT
BEGIN:STANDARD
TZOFFSETFROM:-0400
TZOFFSETTO:-0500
TZNAME:EST
DTSTART:20271107T060000
END:STANDARD
END:VTIMEZONE
BEGIN:VEVENT
DTSTART;TZID=America/New_York:20261002T000000
DTEND;TZID=America/New_York:20261002T000000
DTSTAMP:20260423T175137
CREATED:20260107T134840Z
LAST-MODIFIED:20260107T134840Z
UID:10331-1790899200-1790899200@fondomanpower.com
SUMMARY:Cierre Mejoramiento de Vivienda | Convocatoria #4
DESCRIPTION:
URL:https://fondomanpower.com/event/cierre-mejoramiento-de-vivienda-convocatoria-4-2/
CATEGORIES:Bienestar
END:VEVENT
BEGIN:VEVENT
DTSTART;TZID=America/New_York:20261005T000000
DTEND;TZID=America/New_York:20261005T000000
DTSTAMP:20260423T175137
CREATED:20260107T140737Z
LAST-MODIFIED:20260107T140737Z
UID:10389-1791158400-1791158400@fondomanpower.com
SUMMARY:Experiencias de Vida | Sorteo #10
DESCRIPTION:
URL:https://fondomanpower.com/event/experiencias-de-vida-sorteo-10-2/
CATEGORIES:Bienestar
END:VEVENT
BEGIN:VEVENT
DTSTART;TZID=America/New_York:20261005T000000
DTEND;TZID=America/New_York:20261005T000000
DTSTAMP:20260423T175137
CREATED:20260108T130735Z
LAST-MODIFIED:20260108T130735Z
UID:10434-1791158400-1791158400@fondomanpower.com
SUMMARY:Inicio Bono Educativo | Convocatoria #2
DESCRIPTION:
URL:https://fondomanpower.com/event/inicio-bono-educativo-convocatoria-2/
CATEGORIES:Bienestar
END:VEVENT
BEGIN:VEVENT
DTSTART;TZID=America/New_York:20261007T000000
DTEND;TZID=America/New_York:20261007T000000
DTSTAMP:20260423T175137
CREATED:20260107T134842Z
LAST-MODIFIED:20260107T134842Z
UID:10332-1791331200-1791331200@fondomanpower.com
SUMMARY:Publicación Mejoramiento de Vivienda | Convocatoria #4
DESCRIPTION:
URL:https://fondomanpower.com/event/publicacion-mejoramiento-de-vivienda-convocatoria-4-2/
CATEGORIES:Bienestar
END:VEVENT
BEGIN:VEVENT
DTSTART;TZID=America/New_York:20261009T000000
DTEND;TZID=America/New_York:20261009T000000
DTSTAMP:20260423T175137
CREATED:20260107T135008Z
LAST-MODIFIED:20260107T135008Z
UID:10333-1791504000-1791504000@fondomanpower.com
SUMMARY:Sorteo Mejoramiento de Vivienda | Convocatoria #4
DESCRIPTION:
URL:https://fondomanpower.com/event/sorteo-mejoramiento-de-vivienda-convocatoria-4-2/
CATEGORIES:Bienestar
END:VEVENT
BEGIN:VEVENT
DTSTART;TZID=America/New_York:20261011T000000
DTEND;TZID=America/New_York:20261011T000000
DTSTAMP:20260423T175137
CREATED:20260107T135627Z
LAST-MODIFIED:20260107T135627Z
UID:10360-1791676800-1791676800@fondomanpower.com
SUMMARY:Cierre Historia de Colores |Convocatoria #2
DESCRIPTION:
URL:https://fondomanpower.com/event/cierre-historia-de-colores-convocatoria-2-2/
CATEGORIES:Bienestar
END:VEVENT
BEGIN:VEVENT
DTSTART;TZID=America/New_York:20261012T000000
DTEND;TZID=America/New_York:20261012T000000
DTSTAMP:20260423T175137
CREATED:20260107T140333Z
LAST-MODIFIED:20260107T140333Z
UID:10378-1791763200-1791763200@fondomanpower.com
SUMMARY:Bono de Servicios Públicos | Sorteo #5
DESCRIPTION:
URL:https://fondomanpower.com/event/bono-de-servicios-publicos-sorteo-5-2/
CATEGORIES:Bienestar
END:VEVENT
BEGIN:VEVENT
DTSTART;TZID=America/New_York:20261014T000000
DTEND;TZID=America/New_York:20261014T000000
DTSTAMP:20260423T175137
CREATED:20260107T135813Z
LAST-MODIFIED:20260107T135813Z
UID:10361-1791936000-1791936000@fondomanpower.com
SUMMARY:Publicación Historia de Colores | Convocatoria #2
DESCRIPTION:
URL:https://fondomanpower.com/event/publicacion-historia-de-colores-convocatoria-2-2/
CATEGORIES:Bienestar
END:VEVENT
BEGIN:VEVENT
DTSTART;TZID=America/New_York:20261016T000000
DTEND;TZID=America/New_York:20261016T000000
DTSTAMP:20260423T175137
CREATED:20260108T130737Z
LAST-MODIFIED:20260108T130737Z
UID:10435-1792108800-1792108800@fondomanpower.com
SUMMARY:Cierre Bono Educativo | Convocatoria #2
DESCRIPTION:
URL:https://fondomanpower.com/event/cierre-bono-educativo-convocatoria-2/
CATEGORIES:Bienestar
END:VEVENT
BEGIN:VEVENT
DTSTART;TZID=America/New_York:20261021T000000
DTEND;TZID=America/New_York:20261021T000000
DTSTAMP:20260423T175137
CREATED:20260108T130740Z
LAST-MODIFIED:20260108T130740Z
UID:10436-1792540800-1792540800@fondomanpower.com
SUMMARY:Publicación Bono Educativo | Convocatoria #2
DESCRIPTION:
URL:https://fondomanpower.com/event/publicacion-bono-educativo-convocatoria-2/
CATEGORIES:Bienestar
END:VEVENT
BEGIN:VEVENT
DTSTART;TZID=America/New_York:20261023T000000
DTEND;TZID=America/New_York:20261023T000000
DTSTAMP:20260423T175137
CREATED:20260108T130758Z
LAST-MODIFIED:20260108T130758Z
UID:10437-1792713600-1792713600@fondomanpower.com
SUMMARY:Sorteo Bono Educativo | Convocatoria #2
DESCRIPTION:
URL:https://fondomanpower.com/event/sorteo-bono-educativo-convocatoria-2/
CATEGORIES:Bienestar
END:VEVENT
BEGIN:VEVENT
DTSTART;TZID=America/New_York:20261026T000000
DTEND;TZID=America/New_York:20261026T000000
DTSTAMP:20260423T175137
CREATED:20260107T140121Z
LAST-MODIFIED:20260107T140121Z
UID:10371-1792972800-1792972800@fondomanpower.com
SUMMARY:Bono para Mercado | Sorteo #10
DESCRIPTION:
URL:https://fondomanpower.com/event/bono-para-mercado-sorteo-10-2/
CATEGORIES:Bienestar
END:VEVENT
END:VCALENDAR