BEGIN:VCALENDAR
VERSION:2.0
PRODID:-//Fondo de Empleados de ManpowerGroup - ECPv6.15.20//NONSGML v1.0//EN
CALSCALE:GREGORIAN
METHOD:PUBLISH
X-WR-CALNAME:Fondo de Empleados de ManpowerGroup
X-ORIGINAL-URL:https://fondomanpower.com
X-WR-CALDESC:Eventos para Fondo de Empleados de ManpowerGroup
REFRESH-INTERVAL;VALUE=DURATION:PT1H
X-Robots-Tag:noindex
X-PUBLISHED-TTL:PT1H
BEGIN:VTIMEZONE
TZID:America/New_York
BEGIN:DAYLIGHT
TZOFFSETFROM:-0500
TZOFFSETTO:-0400
TZNAME:EDT
DTSTART:20250309T070000
END:DAYLIGHT
BEGIN:STANDARD
TZOFFSETFROM:-0400
TZOFFSETTO:-0500
TZNAME:EST
DTSTART:20251102T060000
END:STANDARD
BEGIN:DAYLIGHT
TZOFFSETFROM:-0500
TZOFFSETTO:-0400
TZNAME:EDT
DTSTART:20260308T070000
END:DAYLIGHT
BEGIN:STANDARD
TZOFFSETFROM:-0400
TZOFFSETTO:-0500
TZNAME:EST
DTSTART:20261101T060000
END:STANDARD
BEGIN:DAYLIGHT
TZOFFSETFROM:-0500
TZOFFSETTO:-0400
TZNAME:EDT
DTSTART:20270314T070000
END:DAYLIGHT
BEGIN:STANDARD
TZOFFSETFROM:-0400
TZOFFSETTO:-0500
TZNAME:EST
DTSTART:20271107T060000
END:STANDARD
END:VTIMEZONE
BEGIN:VEVENT
DTSTART;TZID=America/New_York:20261203T000000
DTEND;TZID=America/New_York:20261203T000000
DTSTAMP:20260423T201817
CREATED:20260107T141139Z
LAST-MODIFIED:20260107T141139Z
UID:10399-1796256000-1796256000@fondomanpower.com
SUMMARY:de Paseo por Colombia | Sorteo #8
DESCRIPTION:
URL:https://fondomanpower.com/event/de-paseo-por-colombia-sorteo-8-2/
CATEGORIES:Bienestar
END:VEVENT
BEGIN:VEVENT
DTSTART;TZID=America/New_York:20261204T000000
DTEND;TZID=America/New_York:20261204T000000
DTSTAMP:20260423T201817
CREATED:20260107T140922Z
LAST-MODIFIED:20260107T140922Z
UID:10391-1796342400-1796342400@fondomanpower.com
SUMMARY:Experiencias de Vida | Sorteo #12
DESCRIPTION:
URL:https://fondomanpower.com/event/experiencias-de-vida-sorteo-12-2/
CATEGORIES:Bienestar
END:VEVENT
BEGIN:VEVENT
DTSTART;TZID=America/New_York:20261210T000000
DTEND;TZID=America/New_York:20261210T000000
DTSTAMP:20260423T201817
CREATED:20260107T140336Z
LAST-MODIFIED:20260107T140336Z
UID:10379-1796860800-1796860800@fondomanpower.com
SUMMARY:Bono de Servicios Públicos | Sorteo #6
DESCRIPTION:
URL:https://fondomanpower.com/event/bono-de-servicios-publicos-sorteo-6-2/
CATEGORIES:Bienestar
END:VEVENT
BEGIN:VEVENT
DTSTART;TZID=America/New_York:20261221T000000
DTEND;TZID=America/New_York:20261221T000000
DTSTAMP:20260423T201817
CREATED:20260107T140133Z
LAST-MODIFIED:20260107T140133Z
UID:10373-1797811200-1797811200@fondomanpower.com
SUMMARY:Bono para Mercado | Sorteo #12
DESCRIPTION:
URL:https://fondomanpower.com/event/bono-para-mercado-sorteo-12-2/
CATEGORIES:Bienestar
END:VEVENT
END:VCALENDAR