BEGIN:VCALENDAR
VERSION:2.0
PRODID:-//Fondo de Empleados de ManpowerGroup - ECPv6.15.20//NONSGML v1.0//EN
CALSCALE:GREGORIAN
METHOD:PUBLISH
X-WR-CALNAME:Fondo de Empleados de ManpowerGroup
X-ORIGINAL-URL:https://fondomanpower.com
X-WR-CALDESC:Eventos para Fondo de Empleados de ManpowerGroup
REFRESH-INTERVAL;VALUE=DURATION:PT1H
X-Robots-Tag:noindex
X-PUBLISHED-TTL:PT1H
BEGIN:VTIMEZONE
TZID:America/New_York
BEGIN:DAYLIGHT
TZOFFSETFROM:-0500
TZOFFSETTO:-0400
TZNAME:EDT
DTSTART:20250309T070000
END:DAYLIGHT
BEGIN:STANDARD
TZOFFSETFROM:-0400
TZOFFSETTO:-0500
TZNAME:EST
DTSTART:20251102T060000
END:STANDARD
BEGIN:DAYLIGHT
TZOFFSETFROM:-0500
TZOFFSETTO:-0400
TZNAME:EDT
DTSTART:20260308T070000
END:DAYLIGHT
BEGIN:STANDARD
TZOFFSETFROM:-0400
TZOFFSETTO:-0500
TZNAME:EST
DTSTART:20261101T060000
END:STANDARD
BEGIN:DAYLIGHT
TZOFFSETFROM:-0500
TZOFFSETTO:-0400
TZNAME:EDT
DTSTART:20270314T070000
END:DAYLIGHT
BEGIN:STANDARD
TZOFFSETFROM:-0400
TZOFFSETTO:-0500
TZNAME:EST
DTSTART:20271107T060000
END:STANDARD
END:VTIMEZONE
BEGIN:VEVENT
DTSTART;TZID=America/New_York:20260424T000000
DTEND;TZID=America/New_York:20260424T000000
DTSTAMP:20260423T093710
CREATED:20260107T135832Z
LAST-MODIFIED:20260107T135832Z
UID:10365-1776988800-1776988800@fondomanpower.com
SUMMARY:Bono para Mercado | Sorteo #4
DESCRIPTION:
URL:https://fondomanpower.com/event/bono-para-mercado-sorteo-4-2/
CATEGORIES:Bienestar
END:VEVENT
END:VCALENDAR